BEGIN:VCALENDAR
VERSION:2.0
PRODID:-//Verdener Ruderverein - ECPv6.15.20//NONSGML v1.0//EN
CALSCALE:GREGORIAN
METHOD:PUBLISH
X-ORIGINAL-URL:https://verdener-ruderverein.de
X-WR-CALDESC:Veranstaltungen für Verdener Ruderverein
REFRESH-INTERVAL;VALUE=DURATION:PT1H
X-Robots-Tag:noindex
X-PUBLISHED-TTL:PT1H
BEGIN:VTIMEZONE
TZID:Europe/Berlin
BEGIN:DAYLIGHT
TZOFFSETFROM:+0100
TZOFFSETTO:+0200
TZNAME:CEST
DTSTART:20250330T010000
END:DAYLIGHT
BEGIN:STANDARD
TZOFFSETFROM:+0200
TZOFFSETTO:+0100
TZNAME:CET
DTSTART:20251026T010000
END:STANDARD
BEGIN:DAYLIGHT
TZOFFSETFROM:+0100
TZOFFSETTO:+0200
TZNAME:CEST
DTSTART:20260329T010000
END:DAYLIGHT
BEGIN:STANDARD
TZOFFSETFROM:+0200
TZOFFSETTO:+0100
TZNAME:CET
DTSTART:20261025T010000
END:STANDARD
BEGIN:DAYLIGHT
TZOFFSETFROM:+0100
TZOFFSETTO:+0200
TZNAME:CEST
DTSTART:20270328T010000
END:DAYLIGHT
BEGIN:STANDARD
TZOFFSETFROM:+0200
TZOFFSETTO:+0100
TZNAME:CET
DTSTART:20271031T010000
END:STANDARD
END:VTIMEZONE
BEGIN:VEVENT
DTSTART;TZID=Europe/Berlin:20260711T090000
DTEND;TZID=Europe/Berlin:20260711T123000
DTSTAMP:20260425T144459
CREATED:20260129T175114Z
LAST-MODIFIED:20260129T175153Z
UID:2963-1783760400-1783773000@verdener-ruderverein.de
SUMMARY:Bitte weitersagen: Vereinsarbeit mit anschließendem Frühstück\, um 9 Uhr\, am Bootshaus. 
DESCRIPTION:Bitte weitersagen: \nWir treffen uns zur gemeinsamen Vereinsarbeit mit anschließendem Frühstück\, um 9 Uhr\, am Bootshaus.
URL:https://verdener-ruderverein.de/event/bitte-weitersagen-vereinsarbeit-mit-anschliessendem-fruehstueck-um-9-uhr-am-bootshaus-5/
CATEGORIES:Vereinsdienst
END:VEVENT
END:VCALENDAR